BEGIN:VCALENDAR
VERSION:2.0
PRODID:-//BIZES Événements - ECPv6.15.10//NONSGML v1.0//EN
CALSCALE:GREGORIAN
METHOD:PUBLISH
X-WR-CALNAME:BIZES Événements
X-ORIGINAL-URL:https://events.bizes.xyz
X-WR-CALDESC:Évènements pour BIZES Événements
REFRESH-INTERVAL;VALUE=DURATION:PT1H
X-Robots-Tag:noindex
X-PUBLISHED-TTL:PT1H
BEGIN:VTIMEZONE
TZID:Europe/Paris
BEGIN:DAYLIGHT
TZOFFSETFROM:+0100
TZOFFSETTO:+0200
TZNAME:CEST
DTSTART:20240331T010000
END:DAYLIGHT
BEGIN:STANDARD
TZOFFSETFROM:+0200
TZOFFSETTO:+0100
TZNAME:CET
DTSTART:20241027T010000
END:STANDARD
BEGIN:DAYLIGHT
TZOFFSETFROM:+0100
TZOFFSETTO:+0200
TZNAME:CEST
DTSTART:20250330T010000
END:DAYLIGHT
BEGIN:STANDARD
TZOFFSETFROM:+0200
TZOFFSETTO:+0100
TZNAME:CET
DTSTART:20251026T010000
END:STANDARD
BEGIN:DAYLIGHT
TZOFFSETFROM:+0100
TZOFFSETTO:+0200
TZNAME:CEST
DTSTART:20260329T010000
END:DAYLIGHT
BEGIN:STANDARD
TZOFFSETFROM:+0200
TZOFFSETTO:+0100
TZNAME:CET
DTSTART:20261025T010000
END:STANDARD
END:VTIMEZONE
BEGIN:VEVENT
DTSTART;TZID=Europe/Paris:20251217T190000
DTEND;TZID=Europe/Paris:20251217T235900
DTSTAMP:20260419T214054
CREATED:20251203T170149Z
LAST-MODIFIED:20251208T155910Z
UID:26716-1765998000-1766015940@events.bizes.xyz
SUMMARY:MERCREBIZES – Special Networking Noël 2025 🎅
DESCRIPTION:🗓 Mercredi 17 décembre 2025 – 19h00 à minuit\n📍 Pub Emile 1933 : 279 Avenue du Prado – 13008 Marseille \n✨ Le dernier MERCREBIZES de l’année s’annonce magique !\nRejoins la communauté BIZES pour une soirée placée sous le signe de la convivialité\, du partage et… de la surprise 🎁 \nParce que c’est Noël\, on se fait des cadeaux :\n👉 Chaque participant·e apporte un petit présent (valeur max. 10 €) à déposer au pied du sapin.\nUn tirage au sort viendra rythmer la soirée pour que chacun·e reparte avec un sourire et un cadeau dans les mains 💫 \n🤝 Le MERCREBIZES\, c’est bien plus qu’un apéro pro :\nUn moment pour créer de vraies connexions humaines\, élargir ton réseau et tisser des liens sincères dans une ambiance festive et bienveillante.\nParticipe au BIZES Meeting\, ce format de réseautage dynamique où chaque échange peut devenir une belle opportunité. \n🎤 Rencontre des entrepreneur·e·s engagé·e·s\, partage ton expérience\, découvre de nouveaux partenaires et célèbre la fin d’année dans l’esprit BIZES — pro\, humain et inspirant. \nAvec nos BIZES Partners et VIPs :\n💛 Armelle\, Nadia\, Sophie\, Alain\, Manu\, Paul\, Alexandre\, Ryad et Arnaud\nSoutenue par AMCSI\, iPanel et Bonavia. \n💰 PAF : Ton entrée + 1 verre + 1 assiette de tapas\n👉 Prévente : 20 € | Sur place : 25 €\n🎟 Réservation obligatoire sur bizes.xyz \n🎯 Objectif : réseauter autrement\, célébrer ensemble et repartir le cœur léger et le sourire aux lèvres ❤️
URL:https://events.bizes.xyz/evenement/mercrebizes-special-networking-noel-2025/
LOCATION:Emile\, 279 Avenue du Prado\, Marseille\, Provence-Alpes-Côte-d’Azur\, 13008\, France
CATEGORIES:BIZES,BIZES Meetings,MERCREBIZES
ATTACH;FMTTYPE=image/jpeg:https://events.bizes.xyz//affaire-amitie-amour/assets/sites/15/2025/12/mercrebizes-20251217.jpg
ORGANIZER;CN="Amba":MAILTO:contact@bizes.xyz
END:VEVENT
END:VCALENDAR