BEGIN:VCALENDAR
VERSION:2.0
PRODID:-//BIZES Événements - ECPv6.15.10//NONSGML v1.0//EN
CALSCALE:GREGORIAN
METHOD:PUBLISH
X-WR-CALNAME:BIZES Événements
X-ORIGINAL-URL:https://events.bizes.xyz
X-WR-CALDESC:Évènements pour BIZES Événements
REFRESH-INTERVAL;VALUE=DURATION:PT1H
X-Robots-Tag:noindex
X-PUBLISHED-TTL:PT1H
BEGIN:VTIMEZONE
TZID:Europe/Paris
BEGIN:DAYLIGHT
TZOFFSETFROM:+0100
TZOFFSETTO:+0200
TZNAME:CEST
DTSTART:20220327T010000
END:DAYLIGHT
BEGIN:STANDARD
TZOFFSETFROM:+0200
TZOFFSETTO:+0100
TZNAME:CET
DTSTART:20221030T010000
END:STANDARD
BEGIN:DAYLIGHT
TZOFFSETFROM:+0100
TZOFFSETTO:+0200
TZNAME:CEST
DTSTART:20230326T010000
END:DAYLIGHT
BEGIN:STANDARD
TZOFFSETFROM:+0200
TZOFFSETTO:+0100
TZNAME:CET
DTSTART:20231029T010000
END:STANDARD
BEGIN:DAYLIGHT
TZOFFSETFROM:+0100
TZOFFSETTO:+0200
TZNAME:CEST
DTSTART:20240331T010000
END:DAYLIGHT
BEGIN:STANDARD
TZOFFSETFROM:+0200
TZOFFSETTO:+0100
TZNAME:CET
DTSTART:20241027T010000
END:STANDARD
END:VTIMEZONE
BEGIN:VEVENT
DTSTART;TZID=Europe/Paris:20230208T183000
DTEND;TZID=Europe/Paris:20230209T000000
DTSTAMP:20260419T231621
CREATED:20230203T191344Z
LAST-MODIFIED:20240206T142426Z
UID:16588-1675881000-1675900800@events.bizes.xyz
SUMMARY:BIZES Meeting Online #1 - Lancement le mercredi 8 février 2023
DESCRIPTION:[vc_row css_animation= »fadeIn » title= »EN SAVOIR PLUS » style= »custom » gradient_color_1= »turquoise » gradient_color_2= »vista-blue » gradient_custom_color_1= »#dd3333″ gradient_custom_color_2= »#eeee22″ gradient_text_color= »#ffffff » custom_background= »#0b7394″ custom_text= »#ffffff » outline_custom_color= »#666666″ outline_custom_hover_background= »#666666″ outline_custom_hover_text= »#ffffff » shape= »rounded » color= »grey » size= »md » align= »center » button_block= » » add_icon= » » i_align= »left » i_type= »fontawesome » i_icon_fontawesome= »fas fa-adjust » i_icon_openiconic= »vc-oi vc-oi-dial » i_icon_typicons= »typcn typcn-adjust-brightness » i_icon_entypo= »entypo-icon entypo-icon-note » i_icon_linecons= »vc_li vc_li-heart » i_icon_monosocial= »vc-mono vc-mono-fivehundredpx » i_icon_material= »vc-material vc-material-cake » i_icon_pixelicons= »vc_pixel_icon vc_pixel_icon-alert » custom_onclick= » » to_right= » » link= »url:https%3A%2F%2Fevents.bizes.xyz%2Fblog%2Fkezako%2F|title:Une%20soir%C3%A9e%20BIZ%20%26%20Bises%2C%20qu%E2%80%99est-ce%20que%20c%E2%80%99est%20%3F » custom_onclick_code= » »][vc_column][vc_btn title= »Réserver maintenant » style= »custom » custom_background= »#0b7394″ custom_text= »#ffffff » align= »center » css_animation= »fadeIn » link= »url:%23rsvp-now|title:R%C3%A9server%20maintenant »][/vc_column][/vc_row][vc_row][vc_column width= »1/3″][vc_column_text] \nMercredi 8 février 2023 aura lieu le premier BIZES Meeting Online sur https://meetings.events.bizes.xyz \nIl s’agit de visioconférences aléatoires pour développer tes réseaux pros et persos. \nTous les quarts d’heure tu embarques pour une visio avec 4 autres participant-e-s sélectionnés aléatoirement. \nTu te présentes\, tu fais connaissances avec les autres et à la fin du quart d’heure tu embarques pour une nouvelle visio… et ainsi de suite… \net n’oublie pas qu’ici tout le monde se tutoie et s’appelle par son prénom 😉 \nbon voyage !!! \nTarifs : 100  BIZES ❤/visio (équivalent d’1€)\n+ 1000 BIZES ❤ offertes pour chaque nouvelle inscription ! (avoir rempli le formulaire Mes Infos)\n+ 500 BIZES ❤ offertes par chaque formulaire supplémentaire complété (dans ton profil) !\n+ 150 BIZES ❤ pour chaque parrainage d’un-e ami-e avec ton lien d’affiliation ! \n[/vc_column_text][/vc_column][vc_column width= »2/3″ css= ».vc_custom_1675614205806{background-color: #2b2b2b !important;border-radius: 10px !important;} »][vc_column_text css= ».vc_custom_1675670087629{padding-right: 25px !important;padding-left: 25px !important;} »] \nJournal de bord : \n\nPour participer tu dois être inscrit-e et avoir rempli au moins le formulaire Mes Infos\nPuis tu te rends à l’adresse des BIZES Meetings : https://meetings.events.bizes.xyz\nDans la salle d’embarquement\, tu y verras les autres participant-e-s et tu pourras découvrir leur profil en cliquant sur leur avatar ou leur pseudo\nL’heure du prochain départ est affichée et un compte à rebours indique combien de temps il reste avant l’appareillage\nQuand tu es prêt\, clique sur le bouton bleu « Embarque pour le prochain tour« . Il passe alors en vert et affiche « Embarquement en cours« …\nQuand le temps est venu\, le bouton passe en rouge et affiche « Bienvenue à bord ! » surtout ne clique pas dessus si tu souhaites rester à bord !\nSi tu cliques dessus\, tu es débarqué et tu te retrouves à attendre le prochain départ 15 minutes plus tard…\nMettons que tu n’as pas cliqué sur le bouton rouge ;). Tu te retrouves alors en visioconférences avec 4 autres participant-e-s (il arrive que cela soit moins quand le total des participants n’est pas un multiple de 5)\nRespect\, politesse\, galanterie\, sont de rigueur bien-sûr et le temps de parole de chacun aussi bien entendu … Chacun se présente (pendant environ 2 minutes : qui tu es\, ce que tu cherches\, ce que tu proposes\, etc…) puis vous avez quelques minutes à partager ensemble en bonne intelligence\, cela dure en tout 15 minutes (pour être exacte 14 minutes et 30 secondes pour permettre la rotation après la fin de la visio)\n1 minutes avant la fin notre BIZIObot t’avertira qu’il reste 1 minutes pour conclure… Chacun se salue\nA la fin de la visio\, tu es redirigé-e automatiquement vers la page d’accueil. Si tu souhaites encore participer tu n’as rien a faire\, tu es déjà en embarquement pour le prochain départ quelques secondes plus tard mais si tu souhaite débarquer\, c’est là où tu cliques sur le bouton rouge 😉\nIl est possible le tour suivant que tu te retrouve avec certains participant-e-s que tu as déjà rencontré-e-s\, c’est le jeu de l’aléatoire 😉 chaque rencontre a sa raison d’être… mais plus de monde il y aura et plus le mélange se fera…\n\n\n[/vc_column_text][/vc_column][/vc_row]
URL:https://events.bizes.xyz/evenement/bizes-meeting-online-1-lancement-le-mercredi-8-fevrier-2023/
CATEGORIES:BIZES,BIZES Meetings
ATTACH;FMTTYPE=image/png:https://events.bizes.xyz//affaire-amitie-amour/assets/sites/15/2023/02/bm-1-premier-bizes-meeting-online.png
ORGANIZER;CN="Amba":MAILTO:contact@bizes.xyz
END:VEVENT
END:VCALENDAR