BEGIN:VCALENDAR
VERSION:2.0
PRODID:-//BIZES Événements - ECPv6.15.10//NONSGML v1.0//EN
CALSCALE:GREGORIAN
METHOD:PUBLISH
X-WR-CALNAME:BIZES Événements
X-ORIGINAL-URL:https://events.bizes.xyz
X-WR-CALDESC:Évènements pour BIZES Événements
REFRESH-INTERVAL;VALUE=DURATION:PT1H
X-Robots-Tag:noindex
X-PUBLISHED-TTL:PT1H
BEGIN:VTIMEZONE
TZID:Europe/Paris
BEGIN:DAYLIGHT
TZOFFSETFROM:+0100
TZOFFSETTO:+0200
TZNAME:CEST
DTSTART:20230326T010000
END:DAYLIGHT
BEGIN:STANDARD
TZOFFSETFROM:+0200
TZOFFSETTO:+0100
TZNAME:CET
DTSTART:20231029T010000
END:STANDARD
BEGIN:DAYLIGHT
TZOFFSETFROM:+0100
TZOFFSETTO:+0200
TZNAME:CEST
DTSTART:20240331T010000
END:DAYLIGHT
BEGIN:STANDARD
TZOFFSETFROM:+0200
TZOFFSETTO:+0100
TZNAME:CET
DTSTART:20241027T010000
END:STANDARD
BEGIN:DAYLIGHT
TZOFFSETFROM:+0100
TZOFFSETTO:+0200
TZNAME:CEST
DTSTART:20250330T010000
END:DAYLIGHT
BEGIN:STANDARD
TZOFFSETFROM:+0200
TZOFFSETTO:+0100
TZNAME:CET
DTSTART:20251026T010000
END:STANDARD
END:VTIMEZONE
BEGIN:VEVENT
DTSTART;TZID=Europe/Paris:20241115T190000
DTEND;TZID=Europe/Paris:20241116T020000
DTSTAMP:20260419T231745
CREATED:20241029T154415Z
LAST-MODIFIED:20241029T170121Z
UID:21200-1731697200-1731722400@events.bizes.xyz
SUMMARY:BIZES CONNEXIONS – Pour l’Amour et l’Épanouissement Personnel – Soirée Célibataires 💖✨
DESCRIPTION:Lieu : MB Brasserie – 380 Av. du Garlaban\, 13420 Gémenos \nDate et heure : Vendredi 15 novembre\, à partir de 19h00 \n🌟 Soirée pour l’Amour et l’Épanouissement Personnel : BIZES Célibs ! 🌟 \nRejoins-nous pour BIZES CONNEXIONS\, une soirée dédiée aux rencontres authentiques\, où l’épanouissement personnel est au cœur de chaque échange. Inspirée des « portes relationnelles »\, cette soirée te propose de vivre une expérience unique où la connexion véritable\, l’écoute\, et la découverte de soi et de l’autre sont à l’honneur. \nAvec Sophie & Arnaud de la communauté BIZES\, cette soirée te permet de t’ouvrir à des interactions qui vont bien au-delà des rencontres rapides et superficielles. Ici\, prends le temps de rencontrer vraiment\, dans une ambiance conviviale et festive ! \n💬 Au programme :\nConnaissance de soi et langage de l’amour ❤️ : Découvre ton langage amoureux et explore ce qui te permet de bâtir des relations équilibrées et harmonieuses.\nMoments ludiques et jeux de connexion 🎲 : Des jeux interactifs et amusants pour briser la glace et favoriser des échanges sincères.\nMusique\, danse et convivialité 🎶 : Profite d’une ambiance musicale\, danse et partage un moment chaleureux autour de cocktails et de planchas gourmandes. \n🍁 Le mot de Sophie\, Love Coach de BIZES :\n« En tant que Love Coach et Relationologue de la communauté BIZES\, je te propose une expérience unique\, centrée sur la découverte de ton langage amoureux. Ce soir\, pas de rencontres rapides\, mais une exploration sincère de soi et de l’autre. Prépare-toi à vivre des connexions authentiques et à peut-être révéler un nouvel aspect de toi-même. Prêt·e à laisser la magie opérer ? » \n🌸 Parité encouragée pour des rencontres harmonieuses !\nPour assurer un équilibre optimal\, chaque participant·e est invité·e à venir avec une personne du sexe opposé. Inviter un·e ami·e\, c’est garantir une atmosphère conviviale et équilibrée pour tous·tes ! 💫 \n💸 Participation aux Frais (PAF) :\n20 € en prévente / 25 € sur place – avec un verre inclus (vin\, soft ou bière)\nRéserve ta place dès maintenant pour bénéficier du tarif réduit ! \nNe manque pas cette soirée où amour\, épanouissement personnel et convivialité se rencontrent pour des connexions sincères et mémorables ! 💃🧑‍🤝‍🧑✨
URL:https://events.bizes.xyz/evenement/bizes-connexions-pour-amour-epanouissement-personnel-soiree-celibataires/
LOCATION:MB Brasserie\, 380 Avenue du Garlaban\, Gémenos\, Bouches-du-Rhône\, 13420\, France
CATEGORIES:BIZES,BIZES Connexions
ATTACH;FMTTYPE=image/jpeg:https://events.bizes.xyz//affaire-amitie-amour/assets/sites/15/2024/10/bizes-connexions-20241115.jpg
ORGANIZER;CN="Amba":MAILTO:contact@bizes.xyz
END:VEVENT
END:VCALENDAR