BEGIN:VCALENDAR
VERSION:2.0
PRODID:-//BIZES Événements - ECPv6.15.10//NONSGML v1.0//EN
CALSCALE:GREGORIAN
METHOD:PUBLISH
X-WR-CALNAME:BIZES Événements
X-ORIGINAL-URL:https://events.bizes.xyz
X-WR-CALDESC:Évènements pour BIZES Événements
REFRESH-INTERVAL;VALUE=DURATION:PT1H
X-Robots-Tag:noindex
X-PUBLISHED-TTL:PT1H
BEGIN:VTIMEZONE
TZID:Europe/Paris
BEGIN:DAYLIGHT
TZOFFSETFROM:+0100
TZOFFSETTO:+0200
TZNAME:CEST
DTSTART:20180325T010000
END:DAYLIGHT
BEGIN:STANDARD
TZOFFSETFROM:+0200
TZOFFSETTO:+0100
TZNAME:CET
DTSTART:20181028T010000
END:STANDARD
BEGIN:DAYLIGHT
TZOFFSETFROM:+0100
TZOFFSETTO:+0200
TZNAME:CEST
DTSTART:20190331T010000
END:DAYLIGHT
BEGIN:STANDARD
TZOFFSETFROM:+0200
TZOFFSETTO:+0100
TZNAME:CET
DTSTART:20191027T010000
END:STANDARD
BEGIN:DAYLIGHT
TZOFFSETFROM:+0100
TZOFFSETTO:+0200
TZNAME:CEST
DTSTART:20200329T010000
END:DAYLIGHT
BEGIN:STANDARD
TZOFFSETFROM:+0200
TZOFFSETTO:+0100
TZNAME:CET
DTSTART:20201025T010000
END:STANDARD
END:VTIMEZONE
BEGIN:VEVENT
DTSTART;TZID=Europe/Paris:20190124T190000
DTEND;TZID=Europe/Paris:20190124T235900
DTSTAMP:20260420T010716
CREATED:20200229T102508Z
LAST-MODIFIED:20240123T134926Z
UID:10588-1548356400-1548374340@events.bizes.xyz
SUMMARY:BIZ & Bises Spéciale Inter-Réseaux #10
DESCRIPTION:[vc_row][vc_column width= »1/2″][vc_column_text]Bonjour toi !\nTu es dans un réseau ? un Club ? un groupe ? une association ? une tribu ? une team ? une fédération ?\nJ’AI BESOIN DE TOI\,\nPour faire connaitre ton réseau lors de la soirée BIZ & Bises Spéciale Inter-Réseaux qui aura lieu à Marseille le jeudi 24 janvier de 19h à minuit.\nSi tu souhaites que ton réseau soit partenaire de cet événement contacte moi ;).\nTu ne fais parti d’aucun réseau mais tu souhaiterais les connaître ? Cette soirée BIZ & Bises te donne l’occasion de venir les découvrir et de te présenter… \nCo-organisateurs :\nSophie Vernet pour les photos (de profile ou de face 😉 )\nAlain Matacchione pour la bureautique de AMCSI (histoire de faire bonne impression 😀 )\nJean-Baptiste Péronne Expert Réseaux Professionnels Réels\nJean-Yves Carreau de Dynabuy Marseile\nDavid Simonian pour IAE Aix Alumni\nValérie Charran pour Avarap Provence\nGé Raldine de Weréso\nCéline Zampa de La Réale\nJean Michel Lobell de Ast Formation prévention en Risques Professionnels et Pascale Astrautoecole \nPartenaires réseaux :\nIAE Aix Alumni – Association des Diplômés de l’IAE d’Aix en Provence\nAvarap Provence – Secteur Bouches du Rhône\nDynabuy Marseille\nWeréso Marseille \n***Le nom de ton réseau ici et son logo sur l’affiche !*** \nRESERVATION OBLIGATOIRE (Entrée + 1 Verre = 10€) : https://www.weezevent.com/biz-bises-speciale-inter-reseaux \nBIZES ♥\nArnaud Amba[/vc_column_text][/vc_column][vc_column width= »1/2″][vc_video link= »https://www.youtube.com/watch?v=olaOI3-DFqk »][/vc_column][/vc_row]
URL:https://events.bizes.xyz/evenement/biz-bises-speciale-inter-reseaux-10/
CATEGORIES:BIZ & Bises
ATTACH;FMTTYPE=image/jpeg:https://events.bizes.xyz//affaire-amitie-amour/assets/sites/15/2020/02/bb-speciale-inter-reseaux-flyer.jpg
END:VEVENT
END:VCALENDAR