BEGIN:VCALENDAR
VERSION:2.0
PRODID:-//BIZES Événements - ECPv6.15.10//NONSGML v1.0//EN
CALSCALE:GREGORIAN
METHOD:PUBLISH
X-WR-CALNAME:BIZES Événements
X-ORIGINAL-URL:https://events.bizes.xyz
X-WR-CALDESC:Évènements pour BIZES Événements
REFRESH-INTERVAL;VALUE=DURATION:PT1H
X-Robots-Tag:noindex
X-PUBLISHED-TTL:PT1H
BEGIN:VTIMEZONE
TZID:Europe/Paris
BEGIN:DAYLIGHT
TZOFFSETFROM:+0100
TZOFFSETTO:+0200
TZNAME:CEST
DTSTART:20180325T010000
END:DAYLIGHT
BEGIN:STANDARD
TZOFFSETFROM:+0200
TZOFFSETTO:+0100
TZNAME:CET
DTSTART:20181028T010000
END:STANDARD
BEGIN:DAYLIGHT
TZOFFSETFROM:+0100
TZOFFSETTO:+0200
TZNAME:CEST
DTSTART:20190331T010000
END:DAYLIGHT
BEGIN:STANDARD
TZOFFSETFROM:+0200
TZOFFSETTO:+0100
TZNAME:CET
DTSTART:20191027T010000
END:STANDARD
BEGIN:DAYLIGHT
TZOFFSETFROM:+0100
TZOFFSETTO:+0200
TZNAME:CEST
DTSTART:20200329T010000
END:DAYLIGHT
BEGIN:STANDARD
TZOFFSETFROM:+0200
TZOFFSETTO:+0100
TZNAME:CET
DTSTART:20201025T010000
END:STANDARD
END:VTIMEZONE
BEGIN:VEVENT
DTSTART;TZID=Europe/Paris:20190214T190000
DTEND;TZID=Europe/Paris:20190214T235900
DTSTAMP:20260420T010925
CREATED:20200229T102508Z
LAST-MODIFIED:20200229T102508Z
UID:10590-1550170800-1550188740@events.bizes.xyz
SUMMARY:BIZ & Bises Spéciale Inter-Personnel #11
DESCRIPTION:Rien de prévu pour la Saint Valentin ?\nTu es chef d’entreprise\, simple particulier ?\nTu souhaites développer ton réseau? agrandir ton cercle d’ami-e-s ? de clients ? de partenaires ? \nRejoins-nous le 14 février de 19h à Minuit chez Le Zinc marseille \nPour Affaires\, Amitiés\, Affinités… Chaque rencontre a sa raison d’être. \n1/ Début de soirée 19h : Speed Meeting de groupe pour faire connaissance (4/5 personnes par table et tu changes de table tous les quart d’heure)\n2/ A partir de 21h : A table !!! Tapas\, vins\, champagne (carte en cours d’élaboration)\n3/ DJ Krispiz Allstar animation sur le Dance Floor jusqu’à minuit et plus si affinités…\nJe compte sur toi 😉\nBIZES ♥\nArnaud Amba \nPartenaires : \nAlain Matacchione courtier multifonctions à AMCSI\nSophie Vernet photographe de talent \n***Ton nom ici ? Deviens partenaire : contacte moi*** \nEntrée (1 verre inclu) : 10€\nRéservation obligatoire : https://www.weezevent.com/biz-bises-speciale-inter-personnel\nNombre de place limité
URL:https://events.bizes.xyz/evenement/biz-bises-speciale-inter-personnel-11/
CATEGORIES:BIZ & Bises
ATTACH;FMTTYPE=image/jpeg:https://events.bizes.xyz//affaire-amitie-amour/assets/sites/15/2019/01/bb-speciale-saint-valentin21.jpg
END:VEVENT
END:VCALENDAR