BEGIN:VCALENDAR
VERSION:2.0
PRODID:-//BIZES Événements - ECPv6.15.10//NONSGML v1.0//EN
CALSCALE:GREGORIAN
METHOD:PUBLISH
X-WR-CALNAME:BIZES Événements
X-ORIGINAL-URL:https://events.bizes.xyz
X-WR-CALDESC:Évènements pour BIZES Événements
REFRESH-INTERVAL;VALUE=DURATION:PT1H
X-Robots-Tag:noindex
X-PUBLISHED-TTL:PT1H
BEGIN:VTIMEZONE
TZID:Europe/Paris
BEGIN:DAYLIGHT
TZOFFSETFROM:+0100
TZOFFSETTO:+0200
TZNAME:CEST
DTSTART:20180325T010000
END:DAYLIGHT
BEGIN:STANDARD
TZOFFSETFROM:+0200
TZOFFSETTO:+0100
TZNAME:CET
DTSTART:20181028T010000
END:STANDARD
BEGIN:DAYLIGHT
TZOFFSETFROM:+0100
TZOFFSETTO:+0200
TZNAME:CEST
DTSTART:20190331T010000
END:DAYLIGHT
BEGIN:STANDARD
TZOFFSETFROM:+0200
TZOFFSETTO:+0100
TZNAME:CET
DTSTART:20191027T010000
END:STANDARD
BEGIN:DAYLIGHT
TZOFFSETFROM:+0100
TZOFFSETTO:+0200
TZNAME:CEST
DTSTART:20200329T010000
END:DAYLIGHT
BEGIN:STANDARD
TZOFFSETFROM:+0200
TZOFFSETTO:+0100
TZNAME:CET
DTSTART:20201025T010000
END:STANDARD
END:VTIMEZONE
BEGIN:VEVENT
DTSTART;TZID=Europe/Paris:20190510T190000
DTEND;TZID=Europe/Paris:20190510T235900
DTSTAMP:20260420T010839
CREATED:20200229T102508Z
LAST-MODIFIED:20200713T143244Z
UID:10592-1557514800-1557532740@events.bizes.xyz
SUMMARY:BIZ & Bises Spéciale Inter-Anniversaires #14
DESCRIPTION:[vc_row][vc_column width= »1/2″][vc_column_text] \n\nC’est le vendredi 10 mai\, à La Réale\, la prochaine BIZ & Bises de 19h à 2h du mat !\nViens développer ton réseau professionnel et ton cercle d’ami-e-s tout en faisant la fête…\nViens fêter avec moi plusieurs anniversaires :\nArnaud AMBA : 50 ans\, Michael mon fils : 10 ans\, mon arrivée à Marseille : 30 ans et l’arrivée de mon arrière-grand père à Marseille : 130 ans soit un total de 220 ans à fêter !!!Et\, c’est aussi une soirée BIZ & Bises ! donc on est là pour se rencontrer et développer nos réseaux : Affaires\, Amitiés\, Affinités…\net festoyer !!! \n\nPAF : 1 entrée + 1 verre inclus = 15€ en prévente ou 20€ sur place\nFormule Happy Birthday* : 5 entrées + 1 bouteille de champagne + 1 gâteau = 150€ en *prévente uniquement pour un groupe de 5 participant-e-s \nPréventes et réservations ici : https://www.weezevent.com/biz-bises-speciale-inter-anniversaires \nEt si tu souhaites participer en tant que co-organisateur-trice car tu as quelques choses à fêter toi aussi\, tu es le/la bienvenue 😉 \nPartenaires :\nAMCSI avec Alain\nUnivers Plus avec Christelle\nBeauté et Bien Etre au Quotidien avec Naïma\nAction Automobile Jaguar Land Rover Marseille avec Jéromes\nAst Formation avec Jean Michel\nAstr autoécole Permis accéléré avec Pascale\nWine’s Club avec Tony Tomei \nBIZES ♥\nArnaud Amba \n\n[/vc_column_text][/vc_column][vc_column width= »1/2″][vc_video link= »https://www.youtube.com/watch?v=mGprJkRaHAA »][vc_column_text css= ».vc_custom_1594650761179{padding: 25px !important;background-color: #2b2b2b !important;border-radius: 4px !important;} »] \nAu programme :\n+ de 19h à 21h le BIZES Meeting (rencontres par groupe et mouvements)\n+ de 21h à 2h du mat :\n+ repas (tapas\,assiettes gourmandes…)\,\n+ 4 DJs : Hazy Bong\, Big Buddha\, Krispiz Allstar\, DJ MAXIME MB Parramour…\n+ De nombreuses surprises sont prévues !!! \n[/vc_column_text][/vc_column][/vc_row]
URL:https://events.bizes.xyz/evenement/biz-bises-speciale-inter-anniversaires-14/
CATEGORIES:BIZ & Bises
ATTACH;FMTTYPE=image/jpeg:https://events.bizes.xyz//affaire-amitie-amour/assets/sites/15/2019/04/bb-speciale-inter-anniversaires-preflyer.jpg
END:VEVENT
END:VCALENDAR