BEGIN:VCALENDAR
VERSION:2.0
PRODID:-//BIZES Événements - ECPv6.15.10//NONSGML v1.0//EN
CALSCALE:GREGORIAN
METHOD:PUBLISH
X-WR-CALNAME:BIZES Événements
X-ORIGINAL-URL:https://events.bizes.xyz
X-WR-CALDESC:Évènements pour BIZES Événements
REFRESH-INTERVAL;VALUE=DURATION:PT1H
X-Robots-Tag:noindex
X-PUBLISHED-TTL:PT1H
BEGIN:VTIMEZONE
TZID:Europe/Paris
BEGIN:DAYLIGHT
TZOFFSETFROM:+0100
TZOFFSETTO:+0200
TZNAME:CEST
DTSTART:20200329T010000
END:DAYLIGHT
BEGIN:STANDARD
TZOFFSETFROM:+0200
TZOFFSETTO:+0100
TZNAME:CET
DTSTART:20201025T010000
END:STANDARD
BEGIN:DAYLIGHT
TZOFFSETFROM:+0100
TZOFFSETTO:+0200
TZNAME:CEST
DTSTART:20210328T010000
END:DAYLIGHT
BEGIN:STANDARD
TZOFFSETFROM:+0200
TZOFFSETTO:+0100
TZNAME:CET
DTSTART:20211031T010000
END:STANDARD
BEGIN:DAYLIGHT
TZOFFSETFROM:+0100
TZOFFSETTO:+0200
TZNAME:CEST
DTSTART:20220327T010000
END:DAYLIGHT
BEGIN:STANDARD
TZOFFSETFROM:+0200
TZOFFSETTO:+0100
TZNAME:CET
DTSTART:20221030T010000
END:STANDARD
END:VTIMEZONE
BEGIN:VEVENT
DTSTART;TZID=Europe/Paris:20211126T180000
DTEND;TZID=Europe/Paris:20211127T020000
DTSTAMP:20260419T231603
CREATED:20211025T155834Z
LAST-MODIFIED:20220520T181333Z
UID:12844-1637949600-1637978400@events.bizes.xyz
SUMMARY:BIZ & Bises Soirée Black and White #17
DESCRIPTION:[vc_row css= ».vc_custom_1638706666568{background-color: #2b2b2b !important;border-radius: 4px !important;} »][vc_column][vc_custom_heading text= »#BIZESVIPS : » use_theme_fonts= »yes » css= ».vc_custom_1638706942975{margin-top: 0px !important;} »][vc_single_image image= »12846″ img_size= »medium » alignment= »center »][vc_single_image image= »11250″ img_size= »medium » alignment= »center »][vc_single_image image= »11252″ img_size= »medium » alignment= »center »][vc_single_image image= »11253″ img_size= »medium » alignment= »center »][vc_single_image image= »12822″ img_size= »medium » alignment= »center »][vc_single_image image= »12873″ img_size= »medium » alignment= »center »][vc_single_image image= »11254″ img_size= »medium » alignment= »center »]			\n			[/vc_column][/vc_row][vc_row][vc_column width= »1/3″][vc_column_text] \nTe faire des ami-e-s\, des contacts pros ou encore trouver LA bonne personne\,\nest devenu plus simple grâce aux soirées BIZ & Bises…\nChaque rencontre a sa raison d’être car le coeur est notre valeur.\nTisser des liens réels\, humains\, est l’objectif de ces rencontres inconditionnelles !\nTu développes ton réseau pro et perso tout en passant une bonne soirée conviviale au restaurant la Table du Chêne…\nDRESSCODE : NOIR & BLANC\n \nAu programme :\n18h-19h : Accueil des participant-e-s\n19h-20h30 : BIZES Meeting animé par Arnaud et accompagné du groupe de Bossa Nova Jazz Daniel’s\n20h30-22h : On mange\, on bois\, on continue à faire connaissance\n22h-02h : Danses années 80-90 et actuelles avec DJ Florent\n \nAvec nos partenaires :\nLa Table du Chêne avec Brigitte et Stéphane\nAMCSI avec Alain\nAST Formation avec Jean Michel\nASTR Autoecole avec Pascale\nFA RE 13 avec Muriel\, Ariane et Arnaud\nJazz Daniel’s avec Denis et Didier\n \nPAF (entrée + 1 verre) 15€ en prévente et 20€ sur place\nlimité à 100 participant-e-s\n[/vc_column_text][vc_row_inner css= ».vc_custom_1593898010215{margin-right: 0px !important;margin-left: 0px !important;padding-top: 25px !important;padding-right: 25px !important;padding-bottom: 25px !important;padding-left: 25px !important;background-color: #2b2b2b !important;border-radius: 4px !important;} »][vc_column_inner width= »1/2″][vc_column_text] \n#BIZESARTS: \n+ Photos assurées avec amour par Sophie Vernet\n+ Vidéo réalisée par Paul\n+ Groupe Jazz Daniel’s\n+ DJ Florent \n[/vc_column_text][/vc_column_inner][vc_column_inner width= »1/2″][vc_column_text] \n#BIZESVIPS : \n+ AMCSI avec Alain\n+ Ast Formation avec Jean Michel\n+ Astr Auto école avec Pascale\n+ Restaurant La Table du Chêne avec Brigitte et Stéphane\n+ Fa Re 13 avec Muriel\, Ariane et Arnaud\n+ AMBA avec Arnaud \n[/vc_column_text][/vc_column_inner][/vc_row_inner][vc_empty_space][/vc_column][vc_column width= »1/3″][vc_column_text css= ».vc_custom_1594967839834{padding-top: 25px !important;padding-right: 25px !important;padding-bottom: 25px !important;padding-left: 25px !important;background-color: #2b2b2b !important;border-radius: 4px !important;} »] \nAu programme : \n18h-19h : Accueil et bienvenue\n19h-20h30 : BIZES Meeting par groupe de 5\, tu te présentes en deux mots… ou 3 😉 et tu as une 15zaine de minutes pour faire connaissance avec les autres\, échanger tes cartes de visites\, tes coordonnées\, puis tu changes de table… \n20h30-22h : tu manges\, tu bois\, tu re-parles aux personnes qui t’ont intéressées. \n22h-02h : tu t’ambiances !!! avec notre dj aux platines qui nous accompagnera musicalement jusqu’à la fin de soirée \nCet événement est limité à 100 participant-e-s donc les places sont à prendre rapidement… \nParticipation aux frais : 1 entrée + 1 verre inclus\nen pré-vente : 15€\nsur place : 20€ \n[/vc_column_text][vc_single_image image= »13062″ img_size= »large » alignment= »center » onclick= »link_image » css_animation= »fadeIn » title= »Menu : »][vc_custom_heading text= »ALBUM PHOTOS DE LA SOIRÉE » font_container= »tag:h3|text_align:center » use_theme_fonts= »yes »][vc_btn title= »Voir l’album photos sur Facebook » style= »custom » custom_background= »#0b7394″ custom_text= »#ffffff » align= »center » i_icon_fontawesome= »fab fa-facebook-square » css_animation= »bounceInDown » add_icon= »true » link= »url:https%3A%2F%2Fwww.facebook.com%2Falbum.php%3Ffbid%3D3011812425742093%26id%3D1866247440298603%26aid%3D1073741858|target:_blank »][/vc_column][vc_column width= »1/3″][vc_row_inner][vc_column_inner width= »1/6″][vc_icon icon_fontawesome= »fab fa-facebook-square » color= »custom » align= »center » custom_color= »#4267b2″ link= »url:https%3A%2F%2Ffacebook.com%2Fevents%2F552928709336286″][/vc_column_inner][vc_column_inner width= »5/6″][vc_column_text] \nPage Facebook de l’événement :\nhttps://facebook.com/events/552928709336286 \n[/vc_column_text][/vc_column_inner][/vc_row_inner][vc_row_inner][vc_column_inner width= »1/6″][vc_icon icon_fontawesome= »fab fa-linkedin » color= »custom » align= »center » custom_color= »#4267b2″ link= »url:https%3A%2F%2Flinkedin.com%2Fevents%2Fbiz-bisessoir-eblackandwhite-176861241884392734723%2F »][/vc_column_inner][vc_column_inner width= »5/6″][vc_column_text] \nPage LinkedIn de l’événement :\nhttps://linkedin.com/events/biz-bisessoir-eblackandwhite-176861241884392734723/ \n[/vc_column_text][/vc_column_inner][/vc_row_inner][vc_single_image image= »12883″ img_size= »large » alignment= »center » onclick= »link_image » css_animation= »fadeIn »][vc_video link= »https://www.youtube.com/watch?v=r3uNxN-po2c » align= »center » title= »Vidéo de la soirée »][/vc_column][/vc_row][vc_row disable_element= »yes » css= ».vc_custom_1639425162581{padding-top: 25px !important;padding-right: 25px !important;padding-bottom: 25px !important;padding-left: 25px !important;background-color: #2b2b2b !important;border-radius: 4px !important;} »][vc_column][/vc_column][/vc_row][vc_row disable_element= »yes »][vc_column][vc_column_text] \n[custom-facebook-feed album=3011812425742093 albumcols=3 num=24] \n[/vc_column_text][/vc_column][/vc_row]
URL:https://events.bizes.xyz/evenement/biz-bises-soiree-black-and-white-17/
LOCATION:La Table du Chêne\, Rue du 14 Juillet\, Plan-de-Cuques\, 13380\, France
CATEGORIES:BIZ & Bises
ATTACH;FMTTYPE=image/jpeg:https://events.bizes.xyz//affaire-amitie-amour/assets/sites/15/2021/10/bb-B-W-17-2.jpg
ORGANIZER;CN="Amba":MAILTO:contact@bizes.xyz
END:VEVENT
END:VCALENDAR