BEGIN:VCALENDAR
VERSION:2.0
PRODID:-//BIZES Événements - ECPv6.15.10//NONSGML v1.0//EN
CALSCALE:GREGORIAN
METHOD:PUBLISH
X-WR-CALNAME:BIZES Événements
X-ORIGINAL-URL:https://events.bizes.xyz
X-WR-CALDESC:Évènements pour BIZES Événements
REFRESH-INTERVAL;VALUE=DURATION:PT1H
X-Robots-Tag:noindex
X-PUBLISHED-TTL:PT1H
BEGIN:VTIMEZONE
TZID:Europe/Paris
BEGIN:DAYLIGHT
TZOFFSETFROM:+0100
TZOFFSETTO:+0200
TZNAME:CEST
DTSTART:20210328T010000
END:DAYLIGHT
BEGIN:STANDARD
TZOFFSETFROM:+0200
TZOFFSETTO:+0100
TZNAME:CET
DTSTART:20211031T010000
END:STANDARD
BEGIN:DAYLIGHT
TZOFFSETFROM:+0100
TZOFFSETTO:+0200
TZNAME:CEST
DTSTART:20220327T010000
END:DAYLIGHT
BEGIN:STANDARD
TZOFFSETFROM:+0200
TZOFFSETTO:+0100
TZNAME:CET
DTSTART:20221030T010000
END:STANDARD
BEGIN:DAYLIGHT
TZOFFSETFROM:+0100
TZOFFSETTO:+0200
TZNAME:CEST
DTSTART:20230326T010000
END:DAYLIGHT
BEGIN:STANDARD
TZOFFSETFROM:+0200
TZOFFSETTO:+0100
TZNAME:CET
DTSTART:20231029T010000
END:STANDARD
END:VTIMEZONE
BEGIN:VEVENT
DTSTART;TZID=Europe/Paris:20220629T183000
DTEND;TZID=Europe/Paris:20220630T010000
DTSTAMP:20260419T231403
CREATED:20220520T051615Z
LAST-MODIFIED:20240224T083011Z
UID:15753-1656527400-1656550800@events.bizes.xyz
SUMMARY:BIZ & Bises Le Triple Appel #18
DESCRIPTION:[vc_row css= ».vc_custom_1638706666568{background-color: #2b2b2b !important;border-radius: 4px !important;} »][vc_column][vc_custom_heading text= »#BIZESVIPS : » use_theme_fonts= »yes » css= ».vc_custom_1638706942975{margin-top: 0px !important;} »][vc_single_image image= »15756″ img_size= »medium » alignment= »center »][vc_single_image image= »15898″ img_size= »medium » alignment= »center »][vc_single_image image= »15901″ img_size= »medium » alignment= »center »][vc_single_image image= »12822″ img_size= »medium » alignment= »center »][vc_single_image image= »11254″ img_size= »medium » alignment= »center »]			\n			[/vc_column][/vc_row][vc_row][vc_column width= »1/3″][vc_column_text] \n\n\n\n\nBIZ & Bises est un évènement unique et festif pour rencontrer des gens bien ! Développe tes réseaux pros ou persos\, en t’amusant !\n\nTu cherches à élargir ton cercle d’ami-e-s\, à booster ton business\, ou à rencontrer quelqu’un-e ? Attends toi à faire des rencontres pour Affaires\, Amitiés ou Amour car « ici tout le monde se tutoie\, s’appelle par son prénom et se fait des BIZES* »\n\nEt en plus\, on mange\, boit\, danse\, rit !!! On fait la fête !!!\n\n\nDRESSCODE : BLANC\n\n\nBIZES \n@Arnaud AMBA\nADRESSSE : L’Escapade : 41 Rue Frédéric Joliot Curie\, 13013 Marseille\n* BIZES est une marque de confiance\, une action privilégiée et non une obligation\n\n\n\n\n[/vc_column_text][vc_row_inner css= ».vc_custom_1593898010215{margin-right: 0px !important;margin-left: 0px !important;padding-top: 25px !important;padding-right: 25px !important;padding-bottom: 25px !important;padding-left: 25px !important;background-color: #2b2b2b !important;border-radius: 4px !important;} »][vc_column_inner width= »1/2″][vc_column_text] \n#BIZESARTS: \n+ Photos assurées avec amour par Sophie Vernet\n+ Vidéo réalisée par Paul\n+ DJ Florent \n[/vc_column_text][/vc_column_inner][vc_column_inner width= »1/2″][vc_column_text] \n#BIZESVIPS : \n+ AMCSI avec Alain\n+ Ast Formation avec Jean Michel\n+ Restaurant L’escapade avec Antoine et sa team\n+ Fa Re 13 avec Muriel\, Ariane et Arnaud\n+ AMBA avec Arnaud \n[/vc_column_text][/vc_column_inner][/vc_row_inner][vc_empty_space][/vc_column][vc_column width= »1/3″][vc_column_text css= ».vc_custom_1654693815363{padding-top: 25px !important;padding-right: 25px !important;padding-bottom: 25px !important;padding-left: 25px !important;background-color: #2b2b2b !important;border-radius: 4px !important;} »] \nAu programme du Triple Appel : \n18h30-19h : Accueil et bienvenue \n19h-20h : Tu fais des rencontres avec le BIZES Meetings \n20h-21h30 : Tu te restaures avec les spécialités délicieuses de l’Escapade et les contacts que tu as eu… \n21h30-1h : Tu danses et tu fais la fête avec notre DJ et toutes les personnes que tu as rencontrées ! \n[/vc_column_text][vc_single_image image= »15894″ img_size= »large » alignment= »center » onclick= »link_image » css_animation= »fadeIn » njt-role-user-roles= »author » title= »Menu : »][/vc_column][vc_column width= »1/3″][vc_column_text] \nL’événement sur les réseaux : \n[/vc_column_text][vc_row_inner][vc_column_inner width= »1/2″][vc_icon icon_fontawesome= »fab fa-facebook-square » color= »custom » size= »lg » align= »center » custom_color= »#4267b2″ link= »url:https%3A%2F%2Fwww.facebook.com%2Fevents%2F4005342872923747|target:_blank »][/vc_column_inner][vc_column_inner width= »1/2″][vc_icon icon_fontawesome= »fab fa-linkedin » color= »custom » size= »lg » align= »center » custom_color= »#4267b2″ link= »url:https%3A%2F%2Fwww.linkedin.com%2Fevents%2F6932684324982960128%2Fabout%2F »][/vc_column_inner][/vc_row_inner][vc_single_image image= »15835″ img_size= »large » alignment= »center » onclick= »link_image » css_animation= »fadeIn »][vc_video link= »https://www.youtube.com/watch?v=r3uNxN-po2c » align= »center » njt-role= »people-in-the-roles » njt-role-user-roles= »author » title= »Vidéo de la soirée précédente »][/vc_column][/vc_row][vc_row css= ».vc_custom_1698660242622{padding-top: 25px !important;padding-right: 25px !important;padding-bottom: 25px !important;padding-left: 25px !important;background-color: #2b2b2b !important;border-radius: 4px !important;} »][vc_column][vc_custom_heading text= »ALBUM PHOTOS DE LA SOIRÉE » font_container= »tag:h3|text_align:center » use_theme_fonts= »yes »][vc_column_text]                                                                                                                     Album photos BIZ & Bises #1                                                                                                                      BIZ-and-Bises-1-149                                                                                                                                                                BIZ-and-Bises-1-147                                                                                                                                                                BIZ-and-Bises-1-146                                                                                                                                                                BIZ-and-Bises-1-148                                                                                                                                                                BIZ-and-Bises-1-150                                                                                                                                                                BIZ-and-Bises-1-144                                                                                                                                                                BIZ-and-Bises-1-141                                                                                                                                                                BIZ-and-Bises-1-142                                                                                                                                                                BIZ-and-Bises-1-143                                                                                                                                                                BIZ-and-Bises-1-145                                                                                                                                                                BIZ-and-Bises-1-139                                                                                                                                                                BIZ-and-Bises-1-138                                                                                                                                                                BIZ-and-Bises-1-137                                                                                                                                                                BIZ-and-Bises-1-140                                                                                                                                                                BIZ-and-Bises-1-136                                                                                                                                                                BIZ-and-Bises-1-134                                                                                                                                                                BIZ-and-Bises-1-133                                                                                                                                                                BIZ-and-Bises-1-131                                                                                                                                                                BIZ-and-Bises-1-135                                                                                                                                                                BIZ-and-Bises-1-132                                                                                                                                                                BIZ-and-Bises-1-127                                                                                                                                                                BIZ-and-Bises-1-126                                                                                                                                                                BIZ-and-Bises-1-129                                                                                                                                                                BIZ-and-Bises-1-128                                                                                                                                                                BIZ-and-Bises-1-130                                                                                                                                                                BIZ-and-Bises-1-122                                                                                                                                                                BIZ-and-Bises-1-124                                                                                                                                                                BIZ-and-Bises-1-125                                                                                                                                                                BIZ-and-Bises-1-121                                                                                                                                                                BIZ-and-Bises-1-123                                                                                                                                                                BIZ-and-Bises-1-120                                                                                                                                                                BIZ-and-Bises-1-118                                                                                                                                                                BIZ-and-Bises-1-119                                                                                                                                                                BIZ-and-Bises-1-117                                                                                                                                                                BIZ-and-Bises-1-116                                                                                                                                                                BIZ-and-Bises-1-111                                                                                                                                                                BIZ-and-Bises-1-112                                                                                                                                                                BIZ-and-Bises-1-115                                                                                                                                                                BIZ-and-Bises-1-113                                                                                                                                                                BIZ-and-Bises-1-114                                                                                                                                                                BIZ-and-Bises-1-109                                                                                                                                                                BIZ-and-Bises-1-107                                                                                                                                                                BIZ-and-Bises-1-110                                                                                                                                                                BIZ-and-Bises-1-106                                                                                                                                                                BIZ-and-Bises-1-108                                                                                                                                                                BIZ-and-Bises-1-103                                                                                                                                                                BIZ-and-Bises-1-102                                                                                                                                                                BIZ-and-Bises-1-105                                                                                                                                                                BIZ-and-Bises-1-101                                                                                                                                                                BIZ-and-Bises-1-104                                                                                                                                                        «              ‹              																										of																					3																	                              ›                »              												                                                                                                                         \n[/vc_column_text][/vc_column][/vc_row][vc_row disable_element= »yes »][vc_column][vc_column_text] \n[custom-facebook-feed album=3011812425742093 albumcols=3 num=24] \n[/vc_column_text][/vc_column][/vc_row]
URL:https://events.bizes.xyz/evenement/biz-bises-le-triple-appel/
LOCATION:L’Escapade\, 41 Rue Frédéric Joliot Curie\, Marseille\, 13013\, France
CATEGORIES:BIZ & Bises
ATTACH;FMTTYPE=image/jpeg:https://events.bizes.xyz//affaire-amitie-amour/assets/sites/15/2022/05/bb-appel-18-flyer-2.jpg
ORGANIZER;CN="Amba":MAILTO:contact@bizes.xyz
END:VEVENT
END:VCALENDAR