BEGIN:VCALENDAR
VERSION:2.0
PRODID:-//BIZES Événements - ECPv6.15.10//NONSGML v1.0//EN
CALSCALE:GREGORIAN
METHOD:PUBLISH
X-WR-CALNAME:BIZES Événements
X-ORIGINAL-URL:https://events.bizes.xyz
X-WR-CALDESC:Évènements pour BIZES Événements
REFRESH-INTERVAL;VALUE=DURATION:PT1H
X-Robots-Tag:noindex
X-PUBLISHED-TTL:PT1H
BEGIN:VTIMEZONE
TZID:Europe/Paris
BEGIN:DAYLIGHT
TZOFFSETFROM:+0100
TZOFFSETTO:+0200
TZNAME:CEST
DTSTART:20170326T010000
END:DAYLIGHT
BEGIN:STANDARD
TZOFFSETFROM:+0200
TZOFFSETTO:+0100
TZNAME:CET
DTSTART:20171029T010000
END:STANDARD
BEGIN:DAYLIGHT
TZOFFSETFROM:+0100
TZOFFSETTO:+0200
TZNAME:CEST
DTSTART:20180325T010000
END:DAYLIGHT
BEGIN:STANDARD
TZOFFSETFROM:+0200
TZOFFSETTO:+0100
TZNAME:CET
DTSTART:20181028T010000
END:STANDARD
BEGIN:DAYLIGHT
TZOFFSETFROM:+0100
TZOFFSETTO:+0200
TZNAME:CEST
DTSTART:20190331T010000
END:DAYLIGHT
BEGIN:STANDARD
TZOFFSETFROM:+0200
TZOFFSETTO:+0100
TZNAME:CET
DTSTART:20191027T010000
END:STANDARD
END:VTIMEZONE
BEGIN:VEVENT
DTSTART;TZID=Europe/Paris:20180222T183000
DTEND;TZID=Europe/Paris:20180222T213000
DTSTAMP:20260420T010947
CREATED:20180215T170755Z
LAST-MODIFIED:20240216T110624Z
UID:475-1519324200-1519335000@events.bizes.xyz
SUMMARY:BIZ & Bises le Fantastique Afterwork 1 #4
DESCRIPTION:Pour commencer la saison 2018 en douceur\, BIZ & Bises présente sa version light :). Cette fois\, c’est au cours d’un afterwork que je te propose de nous retrouver à Marseille\, le jeudi 22 février chez Le Fantastique de Michel Hanna \nUn simple apéritif de rencontres entre particuliers et professionnels pour tisser des liens tranquillement autour d’un verre. \nPour celles et ceux qui voudrait diner après notre apéro\, contactez directement Michel pour réserver votre table. \nJe n’avais rien organisé depuis notre fameuse soirée sur la plage\, et pour cause\, de grave problème de santé. J’espère maintenant laisser cela derrière moi et je reprend le flambeau de l’organisation avec cette version courte de BIZ & Bises en début de soirée. \nCe sera l’occasion\, de faire connaissance ou reconnaissance entre nous de manière conviviale… \nAu plaisir de t’y retrouver 😉\nBizes\nArnaud Amba \nPAF : 5€ (entrée + un verre d’accueil) \nÉdition limitée à 50 personnes\, Bises et tutoiement de rigueur 😉 								\n				\n					\n		\n					\n		\n		    \n    		\n						\n					\n			\n				    \n    		\n				\n					                                                                                                                     Album photos BIZ & Bises #4
URL:https://events.bizes.xyz/evenement/biz-bises-le-fantastique-afterwork-1/
LOCATION:Le Fantastique\, 76 Boulevard Baille\, Marseille\, 13003\, France
ATTACH;FMTTYPE=image/png:https://events.bizes.xyz//affaire-amitie-amour/assets/sites/15/2018/02/BB-auufantastique.png
ORGANIZER;CN="Amba":MAILTO:contact@bizes.xyz
END:VEVENT
END:VCALENDAR