BEGIN:VCALENDAR
VERSION:2.0
PRODID:-//BIZES Événements - ECPv6.15.10//NONSGML v1.0//EN
CALSCALE:GREGORIAN
METHOD:PUBLISH
X-WR-CALNAME:BIZES Événements
X-ORIGINAL-URL:https://events.bizes.xyz
X-WR-CALDESC:Évènements pour BIZES Événements
REFRESH-INTERVAL;VALUE=DURATION:PT1H
X-Robots-Tag:noindex
X-PUBLISHED-TTL:PT1H
BEGIN:VTIMEZONE
TZID:Europe/Paris
BEGIN:DAYLIGHT
TZOFFSETFROM:+0100
TZOFFSETTO:+0200
TZNAME:CEST
DTSTART:20170326T010000
END:DAYLIGHT
BEGIN:STANDARD
TZOFFSETFROM:+0200
TZOFFSETTO:+0100
TZNAME:CET
DTSTART:20171029T010000
END:STANDARD
BEGIN:DAYLIGHT
TZOFFSETFROM:+0100
TZOFFSETTO:+0200
TZNAME:CEST
DTSTART:20180325T010000
END:DAYLIGHT
BEGIN:STANDARD
TZOFFSETFROM:+0200
TZOFFSETTO:+0100
TZNAME:CET
DTSTART:20181028T010000
END:STANDARD
BEGIN:DAYLIGHT
TZOFFSETFROM:+0100
TZOFFSETTO:+0200
TZNAME:CEST
DTSTART:20190331T010000
END:DAYLIGHT
BEGIN:STANDARD
TZOFFSETFROM:+0200
TZOFFSETTO:+0100
TZNAME:CET
DTSTART:20191027T010000
END:STANDARD
END:VTIMEZONE
BEGIN:VEVENT
DTSTART;TZID=Europe/Paris:20181103T190000
DTEND;TZID=Europe/Paris:20181104T020000
DTSTAMP:20260420T010955
CREATED:20200229T102508Z
LAST-MODIFIED:20200623T222325Z
UID:10586-1541271600-1541296800@events.bizes.xyz
SUMMARY:BIZ & Bises chez le Zinc #8
DESCRIPTION:[vc_row][vc_column width= »1/2″][vc_column_text]Alors que l’été est bien derrière nous\, et que l’hiver approche à grand pas\, notre petite saison automnale est douce à Marseille et propice aux belles soirées. \nLes couleurs changent et notre façon de faire des rencontres aussi. \nTu es chef d’entreprise\, particulier\, ou prétendant-e-s à des relations plus proches ?\nBIZ & Bises est l’événement qui te permet de développer ton réseau de manière globale. Avec son « BIZES Meeting » de début de soirée vient faire la connaissance de ta futur cliente\, de ton prochain pote\, ou de l’amour de ta vie !!! Bon ok j’y vais un peu fort là lol 😉 \nC’est Le Zinc marseille que nous avons choisi comme prochain lieux de rejouissances… Situé au coeur du Rouet dans le 8eme arrondissement de Marseille\, il m’a paru un endroit idéal pour nous accueillir et renouer les liens que nous avons tissés tout l’été pour certain-e-s… Je ne vise personne 😀 \nNotre hôte Christophe Blanc nous promet une cuisine de tapas\, cocktails et de vins de derrière les fagots !!! \nAux platines nous retrouvons notre chouchou le DJ Maxime Soundrose (Open Format) qui nous emporte dans ses rythmes\, lounge\, deep house et disco 🙂 \nNotre talentueuse et généreuse photographe Sophie Vernet et la caméra très discrète de Paul Archiapati sont au rendez vous 😉 pour notre plus grand bonheur. \nEt enfin cerise sur le gâteau\, c’est de 19h jusqu’à 2h du matin que ce samedi 3 novembre nous nous amuserons !!! \nENTRÉE : 10€ un verre inclus\nRéservation obligatoire : https://www.weezevent.com/biz-bises-chez-le-zinc-8\nPage de l’événement sur Facebook : https://www.facebook.com/events/2330324930545844/ \nBIZES ♥\nArnaud Amba \nAdresse : Le ZINC / 182 Rue du Rouet\, 13008 Marseille[/vc_column_text][/vc_column][vc_column width= »1/2″][vc_video link= »https://www.youtube.com/watch?v=yDRvwauYRHs »][/vc_column][/vc_row]
URL:https://events.bizes.xyz/evenement/biz-bises-chez-le-zinc-8/
CATEGORIES:BIZ & Bises
ATTACH;FMTTYPE=image/jpeg:https://events.bizes.xyz//affaire-amitie-amour/assets/sites/15/2018/10/bb-au-zinc-700x700.jpg
END:VEVENT
END:VCALENDAR