BEGIN:VCALENDAR
VERSION:2.0
PRODID:-//BIZES Événements - ECPv6.15.10//NONSGML v1.0//EN
CALSCALE:GREGORIAN
METHOD:PUBLISH
X-WR-CALNAME:BIZES Événements
X-ORIGINAL-URL:https://events.bizes.xyz
X-WR-CALDESC:Évènements pour BIZES Événements
REFRESH-INTERVAL;VALUE=DURATION:PT1H
X-Robots-Tag:noindex
X-PUBLISHED-TTL:PT1H
BEGIN:VTIMEZONE
TZID:Europe/Paris
BEGIN:DAYLIGHT
TZOFFSETFROM:+0100
TZOFFSETTO:+0200
TZNAME:CEST
DTSTART:20170326T010000
END:DAYLIGHT
BEGIN:STANDARD
TZOFFSETFROM:+0200
TZOFFSETTO:+0100
TZNAME:CET
DTSTART:20171029T010000
END:STANDARD
BEGIN:DAYLIGHT
TZOFFSETFROM:+0100
TZOFFSETTO:+0200
TZNAME:CEST
DTSTART:20180325T010000
END:DAYLIGHT
BEGIN:STANDARD
TZOFFSETFROM:+0200
TZOFFSETTO:+0100
TZNAME:CET
DTSTART:20181028T010000
END:STANDARD
BEGIN:DAYLIGHT
TZOFFSETFROM:+0100
TZOFFSETTO:+0200
TZNAME:CEST
DTSTART:20190331T010000
END:DAYLIGHT
BEGIN:STANDARD
TZOFFSETFROM:+0200
TZOFFSETTO:+0100
TZNAME:CET
DTSTART:20191027T010000
END:STANDARD
END:VTIMEZONE
BEGIN:VEVENT
DTSTART;TZID=Europe/Paris:20180622T190000
DTEND;TZID=Europe/Paris:20180623T235500
DTSTAMP:20260420T010925
CREATED:20200229T102508Z
LAST-MODIFIED:20240216T111044Z
UID:10583-1529694000-1529798100@events.bizes.xyz
SUMMARY:BIZ & Bises au Rowing Club\, l'Afterwork 2 #5
DESCRIPTION:BIZ & Bises est de retour !!! Tu peux te réjouir des beaux jours qui arrivent car le soleil facilite les bons contacts\, surtout depuis le toit-terrasse du Rowing Club Le Restaurant avec vue sur le Vieux Port. Que tu souhaites promouvoir tes activités professionnelles\, que tu cherches des affinités amicales ou +\, ou tout simplement une bonne soirée\, réserve dès maintenant ta place car elles sont limitées. Viens à la soirée BIZ & Bises et tes premiers pas te seront facilités. Étape 1 : tu fais la bise (on est à Marseille 😉 ) Étape 2 : tu souris Étape 3 : tu bois un coup Étape 4 : tu te présentes Étape 5 : tu fais connaissance Étape 6 : tu manges Étape 7 : tu danses et tout ça dans l’ordre que tu veux et autant de fois que tu en as envie de 19h à minuit ! BIZES Meeting animé par Arnaud Musique par Maxime (DJ Soundrose) Tapas\, vins & cocktails par Rowing Club Le Restaurant Chacun gère sa faim et sa soif\, mais tu peux partager ton assiette de tapas avec ta voisine ou commander une bonne bouteille à plusieurs 😉 Bizes 😉 Arnaud Amba Entrée : 10€ sur place (1 verre inclus)Prévente : 8€ Participant-e-s : 100 max. Réserve ta place ici : https://www.weezevent.com/biz-bises-au-rowing-club-l-afterwork-2 Informe tes ami-e-s sur Facebook que tu participes : https://www.facebook.com/events/224713161636707/ 								\n				\n					\n		\n				\n			\n						\n				\n							\n					\n						\n				\n					\n		\n					\n		\n		    \n    		\n						\n					\n			\n				    \n    		\n				\n					                                                                                                                     Album photos BIZ & Bises #5                                                                                                                                                                                                                                                                                                                                                                                                                                                                                                                                                                                                                                                                                                                                                                                                                                                                                                                                                                                                                                                                                                                                                                                                                                                                                                                                                                                                                                                                                                                                                                                                                                                                                                                                                                                                                                                                                                                                                                                                                                                                                                                                                                                                                                                                                                                                                                                                                                                                                                                                                                                                                                                                                                                                                                                                                                                                                                                                                                                                                                                                                                                                                                                                                                                                                                                                                                                                                                                                                                                                                                                                                                                      «              ‹              																										of																					4																	                              ›                »
URL:https://events.bizes.xyz/evenement/biz-bises-au-rowing-club-lafterwork-2/
CATEGORIES:BIZ & Bises
ATTACH;FMTTYPE=image/png:https://events.bizes.xyz//affaire-amitie-amour/assets/sites/15/2018/05/bb-rowing-club-2018-06-22-1000px.png
END:VEVENT
END:VCALENDAR