BEGIN:VCALENDAR
VERSION:2.0
PRODID:-//BIZES Événements - ECPv6.15.10//NONSGML v1.0//EN
CALSCALE:GREGORIAN
METHOD:PUBLISH
X-WR-CALNAME:BIZES Événements
X-ORIGINAL-URL:https://events.bizes.xyz
X-WR-CALDESC:Évènements pour BIZES Événements
REFRESH-INTERVAL;VALUE=DURATION:PT1H
X-Robots-Tag:noindex
X-PUBLISHED-TTL:PT1H
BEGIN:VTIMEZONE
TZID:Europe/Paris
BEGIN:DAYLIGHT
TZOFFSETFROM:+0100
TZOFFSETTO:+0200
TZNAME:CEST
DTSTART:20170326T010000
END:DAYLIGHT
BEGIN:STANDARD
TZOFFSETFROM:+0200
TZOFFSETTO:+0100
TZNAME:CET
DTSTART:20171029T010000
END:STANDARD
BEGIN:DAYLIGHT
TZOFFSETFROM:+0100
TZOFFSETTO:+0200
TZNAME:CEST
DTSTART:20180325T010000
END:DAYLIGHT
BEGIN:STANDARD
TZOFFSETFROM:+0200
TZOFFSETTO:+0100
TZNAME:CET
DTSTART:20181028T010000
END:STANDARD
BEGIN:DAYLIGHT
TZOFFSETFROM:+0100
TZOFFSETTO:+0200
TZNAME:CEST
DTSTART:20190331T010000
END:DAYLIGHT
BEGIN:STANDARD
TZOFFSETFROM:+0200
TZOFFSETTO:+0100
TZNAME:CET
DTSTART:20191027T010000
END:STANDARD
END:VTIMEZONE
BEGIN:VEVENT
DTSTART;TZID=Europe/Paris:20180727T190000
DTEND;TZID=Europe/Paris:20180728T000000
DTSTAMP:20260420T010954
CREATED:20200229T102508Z
LAST-MODIFIED:20240216T112617Z
UID:10584-1532718000-1532736000@events.bizes.xyz
SUMMARY:BIZ & Bises au Rowing Club Afterwork 3 #6
DESCRIPTION:BIZ & Bises ca continue !!! Ami-e\,Tu es un-e professionnel-le?Viens échanger tes cartes de visites en toute convivialité… Rencontre tes futur-e-s client-e-s et/ou partenaires. Tu es un-e particulier-e ?Élargie ton réseau de connaissance en toute simplicité…Rencontre tes futurs copains et amies et/ou + si affinités. C’est une soirée de réseautage dans le cadre exceptionnel du Rowing Club Le Restaurant qui t’attends le 27 juillet de 19h à minuit… Dresscode : BLANCAnimation BIZES Meeting : Arnaud Amba & Carole FranckAux platines : DJ Krispiz AllstarAu restaurant et au bar (Tapas\, vins et cocktails) : le Chef Christian\, David\, la barmaid Agathe et toute l’équipe du Rowing 😉 Chacun gère sa faim et sa soif\, mais tu peux partager ton assiette de tapas avec ta voisine ou commander une bonne bouteille à plusieurs 😉 Entrée : 10€ sur place (1 verre inclus)Prévente : 8€Billetterie : https://www.weezevent.com/biz-bises-au-rowing-club-afterwork-3 Participant-e-s : 100 max. Informe tes ami-e-s sur Facebook que tu participes :https://www.facebook.com/events/253182518780781/
URL:https://events.bizes.xyz/evenement/biz-bises-au-rowing-club-afterwork-3/
CATEGORIES:BIZ & Bises
ATTACH;FMTTYPE=image/jpeg:https://events.bizes.xyz//affaire-amitie-amour/assets/sites/15/2018/03/bb-rowing-club-2-final.jpg
END:VEVENT
END:VCALENDAR