BEGIN:VCALENDAR
VERSION:2.0
PRODID:-//BIZES Événements - ECPv6.15.10//NONSGML v1.0//EN
CALSCALE:GREGORIAN
METHOD:PUBLISH
X-WR-CALNAME:BIZES Événements
X-ORIGINAL-URL:https://events.bizes.xyz
X-WR-CALDESC:Évènements pour BIZES Événements
REFRESH-INTERVAL;VALUE=DURATION:PT1H
X-Robots-Tag:noindex
X-PUBLISHED-TTL:PT1H
BEGIN:VTIMEZONE
TZID:Europe/Paris
BEGIN:DAYLIGHT
TZOFFSETFROM:+0100
TZOFFSETTO:+0200
TZNAME:CEST
DTSTART:20160327T010000
END:DAYLIGHT
BEGIN:STANDARD
TZOFFSETFROM:+0200
TZOFFSETTO:+0100
TZNAME:CET
DTSTART:20161030T010000
END:STANDARD
BEGIN:DAYLIGHT
TZOFFSETFROM:+0100
TZOFFSETTO:+0200
TZNAME:CEST
DTSTART:20170326T010000
END:DAYLIGHT
BEGIN:STANDARD
TZOFFSETFROM:+0200
TZOFFSETTO:+0100
TZNAME:CET
DTSTART:20171029T010000
END:STANDARD
BEGIN:DAYLIGHT
TZOFFSETFROM:+0100
TZOFFSETTO:+0200
TZNAME:CEST
DTSTART:20180325T010000
END:DAYLIGHT
BEGIN:STANDARD
TZOFFSETFROM:+0200
TZOFFSETTO:+0100
TZNAME:CET
DTSTART:20181028T010000
END:STANDARD
END:VTIMEZONE
BEGIN:VEVENT
DTSTART;TZID=Europe/Paris:20170609T180000
DTEND;TZID=Europe/Paris:20170610T180000
DTSTAMP:20260420T010516
CREATED:20170609T154137Z
LAST-MODIFIED:20240216T103603Z
UID:10845-1497031200-1497117600@events.bizes.xyz
SUMMARY:BIZ & Bises\, au rooftop ! #2
DESCRIPTION:#Suite au succès de la première BIZ & Bises sur un bateau\, après les aléas météo et le report au 25 juin de BIZ & Bises\, à la piscine !\, c’est sur le toit terrasse de l’Equinoxe à l’Escale Borely que je vous propose de nous retrouver\, pour partager ensemble un magnifique coucher de soleil face à la mer… Rencontrer\, échanger\, communiquer\, faire la fête ensemble en toute convivialité et simplicité\, voila l’essentiel de cet événement. Avec Biz & Bises\, nous tentons de dépasser les clichés des proposositions de rencontres actuelles\, car finalement nous sommes humains et au court d’un événement nous pouvons aussi bien rencontrer des personnes qui peuvent devenir des partenaires\, des clients\, des amis ou même trouver notre moitié… Bref\, ici la simplicité avant tout\, l’intérêt principal est de se rencontrer de manière globale\, que l’on soit employé\, chef d’entreprise\, célibataire ou en couple\, nous avons tous la chance de pouvoir devenir des connaissances\, des contacts\, des amis voire plus … Programme :1/ Speed Meeting de groupe (chacun dispose de 2 minutes maximum pour se présenter X 3)– Affaires\, Amitiés\, Amour … Chaque rencontre a sa raison d’être…2/ Afterwork Dinatoire (par l’Equinoxe)*** L’apéritif***Cocktail\, punch planteur\, eaux minérales\, pastis\, vins (rosé et blanc)*** Afterwork Dinatoire***– Anchoïade et ses croutons– Feuilleté à la Provençale– Wraps au saumon– Supions frits en persillade– Petit pain du « Charcutier »– Brioche façon Bagna– Assortiments de samoussas– Verrine de tartare de boeuf– Rillettes de poissons à la ciboulette– Toast à la tapenade et légumes grillés***Desserts***– Tartelette choco / framboises– Verrines de soupe de fruits frais– Verrine de Panna cotta au caramel****Supplément Champagne 50€ la bouteille*** 3/ Sunset Party (dj lounge\, deep house et dance floor) PAF : 40 € jusqu’au 4 juin minuit puis augmentation de tarif …Nombre de places* limité à 60 participant(e)s*Réservation obligatoire :https://www.weezevent.com/biz-bises-au-rooftop 								\n				\n					\n		\n					\n		\n		    \n    		\n						\n					\n			\n				    \n    		\n				\n					                                                                                                                     Album photos BIZ & Bises #2                                                                                                                      banniereFB-BB-surleltoitcarre                                                                                                                                                                BIZ-and-Bises-2-10                                                                                                                                                                BIZ-and-Bises-2-11                                                                                                                                                                BIZ-and-Bises-2-12                                                                                                                                                                BIZ-and-Bises-2-13                                                                                                                                                                BIZ-and-Bises-2-14                                                                                                                                                                BIZ-and-Bises-2-15                                                                                                                                                                BIZ-and-Bises-2-16                                                                                                                                                                BIZ-and-Bises-2-17                                                                                                                                                                BIZ-and-Bises-2-18                                                                                                                                                                BIZ-and-Bises-2-19                                                                                                                                                                BIZ-and-Bises-2-2                                                                                                                                                                BIZ-and-Bises-2-20                                                                                                                                                                BIZ-and-Bises-2-21                                                                                                                                                                BIZ-and-Bises-2-22                                                                                                                                                                BIZ-and-Bises-2-23                                                                                                                                                                BIZ-and-Bises-2-24                                                                                                                                                                BIZ-and-Bises-2-25                                                                                                                                                                BIZ-and-Bises-2-26                                                                                                                                                                BIZ-and-Bises-2-27                                                                                                                                                                BIZ-and-Bises-2-28                                                                                                                                                                BIZ-and-Bises-2-29                                                                                                                                                                BIZ-and-Bises-2-3                                                                                                                                                                BIZ-and-Bises-2-30                                                                                                                                                                BIZ-and-Bises-2-31                                                                                                                                                                BIZ-and-Bises-2-32                                                                                                                                                                BIZ-and-Bises-2-33                                                                                                                                                                BIZ-and-Bises-2-34                                                                                                                                                                BIZ-and-Bises-2-35                                                                                                                                                                BIZ-and-Bises-2-36                                                                                                                                                        «              ‹              																										of																					2																	                              ›                »
URL:https://events.bizes.xyz/evenement/biz-bises-au-rooftop/
LOCATION:L’Equinoxe\, 142 avenue Pierre Mendes France\, Marseille\, 13008\, France
CATEGORIES:BIZ & Bises
ATTACH;FMTTYPE=image/jpeg:https://events.bizes.xyz//affaire-amitie-amour/assets/sites/15/2020/05/18423136_1893335010923179_5802203718066995094_o.jpg
ORGANIZER;CN="Amba":MAILTO:contact@bizes.xyz
END:VEVENT
END:VCALENDAR