BEGIN:VCALENDAR
VERSION:2.0
PRODID:-//BIZES Événements - ECPv6.15.10//NONSGML v1.0//EN
CALSCALE:GREGORIAN
METHOD:PUBLISH
X-WR-CALNAME:BIZES Événements
X-ORIGINAL-URL:https://events.bizes.xyz
X-WR-CALDESC:Évènements pour BIZES Événements
REFRESH-INTERVAL;VALUE=DURATION:PT1H
X-Robots-Tag:noindex
X-PUBLISHED-TTL:PT1H
BEGIN:VTIMEZONE
TZID:Europe/Paris
BEGIN:DAYLIGHT
TZOFFSETFROM:+0100
TZOFFSETTO:+0200
TZNAME:CEST
DTSTART:20170326T010000
END:DAYLIGHT
BEGIN:STANDARD
TZOFFSETFROM:+0200
TZOFFSETTO:+0100
TZNAME:CET
DTSTART:20171029T010000
END:STANDARD
BEGIN:DAYLIGHT
TZOFFSETFROM:+0100
TZOFFSETTO:+0200
TZNAME:CEST
DTSTART:20180325T010000
END:DAYLIGHT
BEGIN:STANDARD
TZOFFSETFROM:+0200
TZOFFSETTO:+0100
TZNAME:CET
DTSTART:20181028T010000
END:STANDARD
BEGIN:DAYLIGHT
TZOFFSETFROM:+0100
TZOFFSETTO:+0200
TZNAME:CEST
DTSTART:20190331T010000
END:DAYLIGHT
BEGIN:STANDARD
TZOFFSETFROM:+0200
TZOFFSETTO:+0100
TZNAME:CET
DTSTART:20191027T010000
END:STANDARD
END:VTIMEZONE
BEGIN:VEVENT
DTSTART;TZID=Europe/Paris:20180825T190000
DTEND;TZID=Europe/Paris:20180826T020000
DTSTAMP:20260420T010926
CREATED:20200229T102508Z
LAST-MODIFIED:20200623T221334Z
UID:10585-1535223600-1535248800@events.bizes.xyz
SUMMARY:BIZ & Bises à l'Hippodrome Soirée Blanche #7
DESCRIPTION:[vc_row][vc_column width= »1/2″][vc_column_text] \n\nA l’occasion de la soirée blanche à l’hippodrome Borély organisé par O’ Rendez-Vous\, BIZ & Bises s’installe dans un espace réservé à nos participant-e-s.\nMerci Carole\, Alain et Eric pour leur confiance… \nLes festivités commencent à 19h par le fameux BIZES Meeting jusqu’à 21h animé par Carole et Arnaud \nPuis place à la fête jusqu’à 2h du matin !!!\navec les DJ Claude Njoya & @ Mickael Jouhannet\, accompagnés de saxo\, violon\, performers et de nombreuses surprises ! \nPour les gourmands tapas bistronomiques\, plateaux de sushis\, cocktails\, vins et champagne ! \nRéserve ton bracelet : 20€\nArnaud Amba : 0663902161 \nOu en ligne (frais +1€) un rendez vous te sera fixé pour récupper ton bracelet : https://www.weezevent.com/biz-bises-a-l-hippodrome-borely-soiree-blanche-7 \nUne partie des bénéfices sera reversée à :️ Orphéopolis et ️ Association Graine 2 Tournesols \nVoir le film du BIZ & Bises au Rowing Club\, Afterwork #3 :\nhttps://www.facebook.com/BIZBises/videos/2124090494514295/ \nVoir celui de la soirée blanche hippodrome de l’année dernière :\nhttps://www.youtube.com/watch?v=6-3UfhqLb7M \nInvite tes ami-e-s sur Facebook : \nhttps://www.facebook.com/events/2169021263381225/ \n\n[/vc_column_text][/vc_column][vc_column width= »1/2″][vc_video link= »https://www.youtube.com/watch?v=SyKSztGwqck » align= »center »][/vc_column][/vc_row]
URL:https://events.bizes.xyz/evenement/biz-bises-a-lhippodrome-soiree-blanche-7/
CATEGORIES:BIZ & Bises
ATTACH;FMTTYPE=image/jpeg:https://events.bizes.xyz//affaire-amitie-amour/assets/sites/15/2018/08/bb-hippodrome-2-700px.jpg
END:VEVENT
END:VCALENDAR