BEGIN:VCALENDAR
VERSION:2.0
PRODID:-//BIZES Événements - ECPv6.15.10//NONSGML v1.0//EN
CALSCALE:GREGORIAN
METHOD:PUBLISH
X-WR-CALNAME:BIZES Événements
X-ORIGINAL-URL:https://events.bizes.xyz
X-WR-CALDESC:Évènements pour BIZES Événements
REFRESH-INTERVAL;VALUE=DURATION:PT1H
X-Robots-Tag:noindex
X-PUBLISHED-TTL:PT1H
BEGIN:VTIMEZONE
TZID:Europe/Paris
BEGIN:DAYLIGHT
TZOFFSETFROM:+0100
TZOFFSETTO:+0200
TZNAME:CEST
DTSTART:20230326T010000
END:DAYLIGHT
BEGIN:STANDARD
TZOFFSETFROM:+0200
TZOFFSETTO:+0100
TZNAME:CET
DTSTART:20231029T010000
END:STANDARD
BEGIN:DAYLIGHT
TZOFFSETFROM:+0100
TZOFFSETTO:+0200
TZNAME:CEST
DTSTART:20240331T010000
END:DAYLIGHT
BEGIN:STANDARD
TZOFFSETFROM:+0200
TZOFFSETTO:+0100
TZNAME:CET
DTSTART:20241027T010000
END:STANDARD
BEGIN:DAYLIGHT
TZOFFSETFROM:+0100
TZOFFSETTO:+0200
TZNAME:CEST
DTSTART:20250330T010000
END:DAYLIGHT
BEGIN:STANDARD
TZOFFSETFROM:+0200
TZOFFSETTO:+0100
TZNAME:CET
DTSTART:20251026T010000
END:STANDARD
END:VTIMEZONE
BEGIN:VEVENT
DTSTART;TZID=Europe/Paris:20241009T183000
DTEND;TZID=Europe/Paris:20241009T233000
DTSTAMP:20260419T231747
CREATED:20240213T095046Z
LAST-MODIFIED:20241008T214604Z
UID:20283-1728498600-1728516600@events.bizes.xyz
SUMMARY:BIZ & Bises #22 - Rencontres Festives - Networking et Soirée Dansante
DESCRIPTION:Obtiens tes billets maintenant\n					\n					\n				\n								\n				\n				\n						\n					\n			\n						\n				\n									NETWORKING\, RENCONTRES FESTIVES\, SOIRÉE DANSANTE POUR LE DÉVELOPPEMENT PERSONNEL ET PROFESSIONNEL\n🌞Rêves Réalisés🌞\n𝗗𝗮𝘁𝗲 𝗲𝘁 𝗛𝗲𝘂𝗿𝗲 : mercredi 9 octobre | 18h30 à 23h30\n𝗟𝗶𝗲𝘂 : La Maison de la Mer à l’ASPTT\, un cadre époustouflant face à la mer. \n𝗨𝗻𝗲 𝘀𝗼𝗶𝗿𝗲́𝗲 𝗽𝗼𝘂𝗿 𝗰𝗼𝗻𝗻𝗲𝗰𝘁𝗲𝗿\, 𝗰𝗲́𝗹𝗲́𝗯𝗿𝗲𝗿 𝗲𝘁 𝗰𝗿𝗲́𝗲𝗿 𝗱𝗲𝘀 𝗹𝗶𝗲𝗻𝘀 𝗱𝘂𝗿𝗮𝗯𝗹𝗲𝘀 : Rejoins BIZ & Bises pour une soirée où les rencontres se transforment en véritables liens humains\, que ce soit pour Affaires\, Amitiés ou Amour ! Connecte-toi avec des professionnel·le·s et des passionné·e·s dans un cadre festif et inspirant. \n𝗣𝗼𝘂𝗿𝗾𝘂𝗼𝗶 𝗽𝗮𝗿𝘁𝗶𝗰𝗶𝗽𝗲𝗿 𝗮̀ 𝗕𝗜𝗭 & 𝗕𝗶𝘀𝗲𝘀 ?\nNotre soirée incarne l’essence même des rencontres réelles “human to human”\, offrant un cadre où les connexions authentiques prennent vie et s’épanouissent. Plus qu’un simple événement\, découvre une communauté bienveillante qui valorise les rencontres réelles\, profondes\, mêlant plaisir et affaires dans un esprit festif. \nNe rate pas cette chance unique de développer tes relations personnelles et professionnelles. \n𝗕𝗜𝗭𝗘𝗦 𝗩𝗜𝗣𝗦 : Alexia NISSAN\, Alain AMCSI\, Emmanuel iPANEL\, Arnaud AMBA.\n𝗕𝗜𝗭𝗘𝗦 𝗣𝗔𝗥𝗧𝗡𝗘𝗥𝗦 : Isabelle\, Marie-France\, Sonia\, Sophie O.\, Sophie V.\, Sabrina\, Doria\, Caroline\, Sandra\, Eleonora\, Dominique\, Rudy\, Yann\, Paul\n𝗕𝗜𝗭𝗘𝗦 𝗔𝗥𝗧𝗦 : Photos par Sophie V.\, Video Paul A.\, DJ Flo\, Zianco\, Monique L.\n𝗕𝗜𝗭𝗘𝗦 𝗧𝗘𝗔𝗠 : Audrey de Divigne\, Marie de METS DU BONHEUR  \nBilletterie : Chaque billet inclut un PAF pour l’entrée et te permet d’échanger des euros en BIZES ❤️\, notre monnaie locale\, à dépenser en boissons et tapas !  Tarifs Préventes : 🎫 Billet Full Access* : 32€ (dont 22€ convertis en 2200 BIZES ❤️ pour tapas et boissons). Inclus ta place au BIZES Meeting à 18h30. 🎫 Billet Soirée Uniquement : 24€ (dont 14€ convertis en 1400 BIZES ❤️). Accès à partir de 20h30\, sans participation au BIZES Meeting.  🔗 Réserve ta place maintenant pour célébrer ensemble cette dernière soirée BIZ & Bises de l’année !  ⚠️ Sur place : +7€ par billet 📌 *Places limitées pour le BIZES Meeting\, premier·e arrivé·e\, premier·e servi·e… 								\n				\n					\n		\n				\n			\n						\n				\n					Programme de la soirée				\n				\n				\n				\n									➤ 18𝗵30 | 𝗔𝗰𝗰𝘂𝗲𝗶𝗹 – Rencontre chaleureuse avec les BIZES Partners et VIPs\, en profitant d’un verre sur la terrasse. ➤ 19𝗵30 | 𝗕𝗜𝗭𝗘𝗦 𝗠𝗲𝗲𝘁𝗶𝗻𝗴𝘀 – Sessions de networking dynamiques\, des mises en relations réelles\, pour créer des connexions authentiques. ➤ 20𝗵30 | 𝗗î𝗻𝗲𝗿 𝗽𝗮𝗿𝘁𝗮𝗴é – Repas convivial avec des mets raffinés et des vins sélectionnés\, propice aux échanges. ➤ 21𝗵30 | 𝗗𝗮𝗻𝘀𝗲 𝗮𝘃𝗲𝗰 𝗹𝗲 𝗗𝗝 𝗙𝗹𝗼𝗿𝗲𝗻𝘁 – Danse et ambiance festive avec notre DJ. ➤ 𝗘𝘅𝗽𝗼𝘀𝗶𝘁𝗶𝗼𝗻 𝗱𝗲 𝗽𝗲𝗶𝗻𝘁𝘂𝗿𝗲 𝗮𝘃𝗲𝗰 𝗭𝗶𝗮𝗻𝗰𝗼 𝗲𝘁 𝗠𝗼𝗻𝗶𝗾𝘂𝗲 – Plonge dans un univers artistique passionnant. 								\n				\n				\n				\n					AU MENU				\n				\n				\n				\n							\n			\n								Carte des Boissons sélectionnés par Audrey de DIVIGNEMenu Eclats de Lumière concocté par Rada de Khan Gusto			\n												\n											\n					\n											\n				\n									\n									\n						\n				\n					\n		\n					\n		\n				\n				\n									\n					\n						\n						\n							\n									Obtiens tes billets maintenant\n					\n					\n				\n								\n				\n					\n		\n					\n		\n				\n						\n					\n			\n						\n				\n							\n				\n				\n					\n						\n					\n			\n						\n				\n																\n															\n															\n				\n				\n				\n							\n			\n		\n						\n				\n				\n				\n					🌟 Le NETWORKING FESTIF : Transforme tes rencontres professionnelles en moments de convivialité 🌟				\n				\n					\n		\n					\n		\n				\n				\n					\n						\n					\n			\n						\n				\n																\n															\n															\n				\n				\n				\n							\n			\n		\n						\n				\n				\n				\n					🌟 Rencontre avec nos BIZES Vips\, BIZES Partners\, BIZES Arts et BIZES Team 2024 ! 🌟				\n				\n					\n		\n					\n		\n				\n				\n					\n						\n					\n			\n						\n				\n																\n															\n															\n				\n				\n				\n							\n			\n		\n						\n				\n				\n				\n					🌟Découvre le BIZES Meeting : Ton Opportunité de Networking Authentique !🌟
URL:https://events.bizes.xyz/evenement/biz-bises-22-rencontres-festives-networking-et-soiree-dansante/
LOCATION:ASPTT Marseille – Maison de la Mer\, ASPTT Marseille - Maison de la Mer\, 3 Port de la Pointe Rouge Entrée n° 1\, Marseille\, 13008\, France
CATEGORIES:BIZ & Bises,BIZES,BIZES Meetings,Événements communautaires et culturels,Événements professionnels,Fêtes et événements saisonnier,L'Esprit de Corps,Prétendant-e-s / Célibataires,Santé et bien-être,Sports et fitness
ATTACH;FMTTYPE=image/jpeg:https://events.bizes.xyz//affaire-amitie-amour/assets/sites/15/2024/07/bb-22-octobre.jpg
ORGANIZER;CN="Amba":MAILTO:contact@bizes.xyz
END:VEVENT
END:VCALENDAR