BEGIN:VCALENDAR
VERSION:2.0
PRODID:-//BIZES Événements - ECPv6.15.10//NONSGML v1.0//EN
CALSCALE:GREGORIAN
METHOD:PUBLISH
X-WR-CALNAME:BIZES Événements
X-ORIGINAL-URL:https://events.bizes.xyz
X-WR-CALDESC:Évènements pour BIZES Événements
REFRESH-INTERVAL;VALUE=DURATION:PT1H
X-Robots-Tag:noindex
X-PUBLISHED-TTL:PT1H
BEGIN:VTIMEZONE
TZID:Europe/Paris
BEGIN:DAYLIGHT
TZOFFSETFROM:+0100
TZOFFSETTO:+0200
TZNAME:CEST
DTSTART:20230326T010000
END:DAYLIGHT
BEGIN:STANDARD
TZOFFSETFROM:+0200
TZOFFSETTO:+0100
TZNAME:CET
DTSTART:20231029T010000
END:STANDARD
BEGIN:DAYLIGHT
TZOFFSETFROM:+0100
TZOFFSETTO:+0200
TZNAME:CEST
DTSTART:20240331T010000
END:DAYLIGHT
BEGIN:STANDARD
TZOFFSETFROM:+0200
TZOFFSETTO:+0100
TZNAME:CET
DTSTART:20241027T010000
END:STANDARD
BEGIN:DAYLIGHT
TZOFFSETFROM:+0100
TZOFFSETTO:+0200
TZNAME:CEST
DTSTART:20250330T010000
END:DAYLIGHT
BEGIN:STANDARD
TZOFFSETFROM:+0200
TZOFFSETTO:+0100
TZNAME:CET
DTSTART:20251026T010000
END:STANDARD
END:VTIMEZONE
BEGIN:VEVENT
DTSTART;TZID=Europe/Paris:20240410T183000
DTEND;TZID=Europe/Paris:20240410T235900
DTSTAMP:20260419T231609
CREATED:20240213T073857Z
LAST-MODIFIED:20240403T154626Z
UID:20229-1712773800-1712793540@events.bizes.xyz
SUMMARY:BE FOR BIZES - Prologue aux Jeux - L'Aventure Commence ! - L'Esprit de Corps -0-
DESCRIPTION:Obtiens tes billets maintenant\n					\n					\n				\n								\n				\n				\n				\n									Bienvenue\, bizien·ne des temps modernes et curieux·se de nouvelles découvertes ! Le 10 avril\, nous te convions à une odyssée inédite : « BE FOR BIZES – Prologue aux jeux – L’aventure commence ! – L’esprit de corps 0« . C’est dans le havre de l’INKUB\, au cœur vibrant de Marseille\, que nous larguerons les amarres pour une soirée qui promet d’illuminer le chemin vers de nouvelles connexions.Que tu sois un·e particulier·e ou un·e professionnel·le\, journaliste\, média\, influenceur·euse\, investisseur·euse\, ou tout simplement passionné·e par le développement personnel et professsionnel\, cet événement te présentera les membres de notre véritable équipage olympique pour les 4 événements BIZ & Bises de mois à venir\, tout en festoyant ensemble !!! (présentations\, rencontres festives et soirée dansante). En cette soirée d’exception\, nous t’invitons à plonger dans l’univers profond et enrichissant de BIZES\, où les flots de la créativité\, de l’innovation et de l’esprit de corps nous guident vers des horizons sans limites. L’INKUB\, notre navire phare\, se métamorphose en un archipel d’opportunités\, où tu pourras naviguer d’île en île à la rencontre de nos BIZES Partners et BIZES VIPS. Nos BIZES Partners\, véritables étoiles dans la constellation BIZES\, sont des coach·e·s\, thérapeute·s\, consultant·e·s\, formateur·rice·s\, prestataires\, artistes ou tout·toute professionnel·le passionné·e par le sport\, la santé\, le bien-être\, et le développement de l’esprit et du corps. Ils·Elles sont le cœur battant de notre communauté\, prêt·e·s à partager leur savoir\, leur expérience et leur passion pour t’accompagner dans ton voyage personnel et professionnel. Vient les découvrir… Que tu sois à la recherche d’inspiration\, de croissance ou de bien-être\, cette soirée est une invitation à découvrir un monde où chaque rencontre est une aventure\, où chaque échange est une découverte enrichissante. C’est l’occasion de tisser des liens précieux avec des âmes sœurs professionnelles et de te joindre à une flottille où chaque individu contribue à la force et à la beauté du collectif. Au programme\, une traversée festive et conviviale\, ponctuée d’activités qui stimuleront ton esprit et réjouiront ton âme. Entre interactions inspirantes et ambiance chaleureuse\, tu découvriras l’essence même de l’esprit de corps qui nous anime. Laisse-toi porter par les vagues du  BE FOR BIZES et rejoins-nous pour cette soirée où l’horizon de chaque humain.e en réseau s’élargit. Ensemble\, célébrons l’union de nos talents\, de nos passions et de nos rêves. Le 10 avril à l’INKUB\, embarque pour une expédition mémorable au cœur de notre communauté. C’est une invitation à naviguer vers des terres d’opportunités\, d’échanges et de bienveillance. Hissons les voiles ensemble pour cette aventure unique. Le monde de BIZES t’attend pour partager\, grandir et briller. 🌟 À très bientôt pour prendre le large ensemble ! 🌊 PAF : 30€ (entrée\, boissons\, tapas inclus) Places limitées à 100 participant·e·s 								\n				\n				\n				\n									\n					\n						\n						\n							\n									Obtiens tes billets maintenant\n					\n					\n				\n								\n				\n					\n		\n				\n			\n						\n				\n									Programme de la SoiréeRencontre avec les BIZES Partners et les BIZES VIPS : viens découvrir l’équipage olympique qui te recevra pendant les festivités.Profite de boissons fraîches et de délicieux tapas pour titiller tes papilles.Laisse-toi entraîner par un DJ qui te fera voguer au rythme de la musique.Et une piste de danse t’attend pour que tu puisses exprimer toute ta joie de vivre.								\n				\n				\n				\n					MENU				\n				\n				\n				\n							\n			\n			\n				\n			\n				\n				Carte des Tapas par Délices d’Ordchiday\n				\n			\n				\n			\n				\n				Carte des Boissons par Divigne\n				\n		\n		\n						\n				\n					\n		\n					\n		\n				\n						\n					\n			\n						\n				\n							\n				\n				\n					\n						\n					\n			\n						\n				\n																\n															\n															\n				\n				\n				\n							\n			\n		\n						\n				\n				\n				\n					🎉✨ Avec ta place pour BE FOR BIZES\, l’aventure ne fait que commencer ! 🎉✨
URL:https://events.bizes.xyz/evenement/be-for-bizes-prologue-aux-jeux-laventure-commence-lesprit-de-corps-0/
LOCATION:l’INKUB\, 106 boulevard Françoise Duparc\, Marseille\, 13004\, France
CATEGORIES:BIZ & Bises,BIZES,Événements communautaires et culturels,Événements professionnels,L'Esprit de Corps,Santé et bien-être,Sports et fitness
ATTACH;FMTTYPE=image/jpeg:https://events.bizes.xyz//affaire-amitie-amour/assets/sites/15/2024/02/be-for-bizes-2.jpg
ORGANIZER;CN="Amba":MAILTO:contact@bizes.xyz
END:VEVENT
END:VCALENDAR